BEGIN:VCALENDAR
VERSION:2.0
PRODID:-//ESAT Valencia - ECPv5.16.4.1//NONSGML v1.0//EN
CALSCALE:GREGORIAN
METHOD:PUBLISH
X-WR-CALNAME:ESAT Valencia
X-ORIGINAL-URL:https://www.esat.es
X-WR-CALDESC:Events for ESAT Valencia
BEGIN:VTIMEZONE
TZID:Europe/Madrid
BEGIN:DAYLIGHT
TZOFFSETFROM:+0100
TZOFFSETTO:+0200
TZNAME:CEST
DTSTART:20140330T010000
END:DAYLIGHT
BEGIN:STANDARD
TZOFFSETFROM:+0200
TZOFFSETTO:+0100
TZNAME:CET
DTSTART:20141026T010000
END:STANDARD
END:VTIMEZONE
BEGIN:VEVENT
DTSTART;VALUE=DATE:20141101
DTEND;VALUE=DATE:20141102
DTSTAMP:20260421T103713
CREATED:20170502T182204Z
LAST-MODIFIED:20170502T182204Z
UID:2759-1414800000-1414886399@www.esat.es
SUMMARY:Fiesta 1 de noviembre de 2014: Todos los Santos
DESCRIPTION:La Escuela permanecerá cerrada el 1 de noviembre de 2014 con motivo de la celebración de Todos los Santos
URL:https://www.esat.es/evento/fiesta-1-de-noviembre-de-2014-todos-los-santos/
END:VEVENT
END:VCALENDAR